BEGIN:VCALENDAR
VERSION:2.0
PRODID:-//NYSACCME - ECPv6.15.17.1//NONSGML v1.0//EN
CALSCALE:GREGORIAN
METHOD:PUBLISH
X-ORIGINAL-URL:https://www.nysaccme.org
X-WR-CALDESC:Events for NYSACCME
REFRESH-INTERVAL;VALUE=DURATION:PT1H
X-Robots-Tag:noindex
X-PUBLISHED-TTL:PT1H
BEGIN:VTIMEZONE
TZID:America/New_York
BEGIN:DAYLIGHT
TZOFFSETFROM:-0500
TZOFFSETTO:-0400
TZNAME:EDT
DTSTART:20230312T070000
END:DAYLIGHT
BEGIN:STANDARD
TZOFFSETFROM:-0400
TZOFFSETTO:-0500
TZNAME:EST
DTSTART:20231105T060000
END:STANDARD
BEGIN:DAYLIGHT
TZOFFSETFROM:-0500
TZOFFSETTO:-0400
TZNAME:EDT
DTSTART:20240310T070000
END:DAYLIGHT
BEGIN:STANDARD
TZOFFSETFROM:-0400
TZOFFSETTO:-0500
TZNAME:EST
DTSTART:20241103T060000
END:STANDARD
BEGIN:DAYLIGHT
TZOFFSETFROM:-0500
TZOFFSETTO:-0400
TZNAME:EDT
DTSTART:20250309T070000
END:DAYLIGHT
BEGIN:STANDARD
TZOFFSETFROM:-0400
TZOFFSETTO:-0500
TZNAME:EST
DTSTART:20251102T060000
END:STANDARD
END:VTIMEZONE
BEGIN:VEVENT
DTSTART;TZID=America/New_York:20240622T100000
DTEND;TZID=America/New_York:20240622T120000
DTSTAMP:20260423T115442
CREATED:20240603T122839Z
LAST-MODIFIED:20240604T011811Z
UID:546-1719050400-1719057600@www.nysaccme.org
SUMMARY:Board Meeting
DESCRIPTION:
URL:https://www.nysaccme.org/event/board-meeting-june-24th-oswego-ny-at-10am/
LOCATION:Lake Ontario Event Center\, Oswego\, NY\, 13126
END:VEVENT
END:VCALENDAR