BEGIN:VCALENDAR
VERSION:2.0
PRODID:-//NYSACCME - ECPv6.15.17.1//NONSGML v1.0//EN
CALSCALE:GREGORIAN
METHOD:PUBLISH
X-WR-CALNAME:NYSACCME
X-ORIGINAL-URL:https://www.nysaccme.org
X-WR-CALDESC:Events for NYSACCME
REFRESH-INTERVAL;VALUE=DURATION:PT1H
X-Robots-Tag:noindex
X-PUBLISHED-TTL:PT1H
BEGIN:VTIMEZONE
TZID:America/New_York
BEGIN:DAYLIGHT
TZOFFSETFROM:-0500
TZOFFSETTO:-0400
TZNAME:EDT
DTSTART:20230312T070000
END:DAYLIGHT
BEGIN:STANDARD
TZOFFSETFROM:-0400
TZOFFSETTO:-0500
TZNAME:EST
DTSTART:20231105T060000
END:STANDARD
BEGIN:DAYLIGHT
TZOFFSETFROM:-0500
TZOFFSETTO:-0400
TZNAME:EDT
DTSTART:20240310T070000
END:DAYLIGHT
BEGIN:STANDARD
TZOFFSETFROM:-0400
TZOFFSETTO:-0500
TZNAME:EST
DTSTART:20241103T060000
END:STANDARD
BEGIN:DAYLIGHT
TZOFFSETFROM:-0500
TZOFFSETTO:-0400
TZNAME:EDT
DTSTART:20250309T070000
END:DAYLIGHT
BEGIN:STANDARD
TZOFFSETFROM:-0400
TZOFFSETTO:-0500
TZNAME:EST
DTSTART:20251102T060000
END:STANDARD
END:VTIMEZONE
BEGIN:VEVENT
DTSTART;TZID=America/New_York:20240920T080000
DTEND;TZID=America/New_York:20240922T170000
DTSTAMP:20260420T013831
CREATED:20240603T123416Z
LAST-MODIFIED:20240618T185404Z
UID:550-1726819200-1727024400@www.nysaccme.org
SUMMARY:2024 Fall Conference
DESCRIPTION:September 20-22 2024 Lake Ontario Conference Center\, Oswego NY \nRegistration Form \nConference Info Letter
URL:https://www.nysaccme.org/event/2024-fall-conference/
LOCATION:Lake Ontario Event Center\, Oswego\, NY\, 13126
END:VEVENT
END:VCALENDAR